BEGIN:VCALENDAR
VERSION:2.0
PRODID:-//Geneseo United Methodist Church - ECPv6.15.20//NONSGML v1.0//EN
CALSCALE:GREGORIAN
METHOD:PUBLISH
X-WR-CALNAME:Geneseo United Methodist Church
X-ORIGINAL-URL:https://geneseomethodist.org
X-WR-CALDESC:Events for Geneseo United Methodist Church
REFRESH-INTERVAL;VALUE=DURATION:PT1H
X-Robots-Tag:noindex
X-PUBLISHED-TTL:PT1H
BEGIN:VTIMEZONE
TZID:America/New_York
BEGIN:DAYLIGHT
TZOFFSETFROM:-0500
TZOFFSETTO:-0400
TZNAME:EDT
DTSTART:20250309T070000
END:DAYLIGHT
BEGIN:STANDARD
TZOFFSETFROM:-0400
TZOFFSETTO:-0500
TZNAME:EST
DTSTART:20251102T060000
END:STANDARD
BEGIN:DAYLIGHT
TZOFFSETFROM:-0500
TZOFFSETTO:-0400
TZNAME:EDT
DTSTART:20260308T070000
END:DAYLIGHT
BEGIN:STANDARD
TZOFFSETFROM:-0400
TZOFFSETTO:-0500
TZNAME:EST
DTSTART:20261101T060000
END:STANDARD
BEGIN:DAYLIGHT
TZOFFSETFROM:-0500
TZOFFSETTO:-0400
TZNAME:EDT
DTSTART:20270314T070000
END:DAYLIGHT
BEGIN:STANDARD
TZOFFSETFROM:-0400
TZOFFSETTO:-0500
TZNAME:EST
DTSTART:20271107T060000
END:STANDARD
END:VTIMEZONE
BEGIN:VEVENT
DTSTART;TZID=America/New_York:20260419T094500
DTEND;TZID=America/New_York:20260419T103000
DTSTAMP:20260419T125526
CREATED:20260113T205454Z
LAST-MODIFIED:20260113T205454Z
UID:15102-1776591900-1776594600@geneseomethodist.org
SUMMARY:Sunday School
DESCRIPTION:
URL:https://geneseomethodist.org/event/sunday-school-16/
LOCATION:03 – Room 3
END:VEVENT
BEGIN:VEVENT
DTSTART;TZID=America/New_York:20260419T094500
DTEND;TZID=America/New_York:20260419T103000
DTSTAMP:20260419T125526
CREATED:20260113T205454Z
LAST-MODIFIED:20260113T205454Z
UID:15103-1776591900-1776594600@geneseomethodist.org
SUMMARY:Sunday School
DESCRIPTION:
URL:https://geneseomethodist.org/event/sunday-school-17/
LOCATION:08 – Room 8
END:VEVENT
BEGIN:VEVENT
DTSTART;TZID=America/New_York:20260419T103500
DTEND;TZID=America/New_York:20260419T113000
DTSTAMP:20260419T125526
CREATED:20260113T205508Z
LAST-MODIFIED:20260113T205508Z
UID:15104-1776594900-1776598200@geneseomethodist.org
SUMMARY:Adult Sunday School
DESCRIPTION:
URL:https://geneseomethodist.org/event/adult-sunday-school-54/
END:VEVENT
END:VCALENDAR