BEGIN:VCALENDAR
VERSION:2.0
PRODID:-//Geneseo United Methodist Church - ECPv6.15.20//NONSGML v1.0//EN
CALSCALE:GREGORIAN
METHOD:PUBLISH
X-WR-CALNAME:Geneseo United Methodist Church
X-ORIGINAL-URL:https://geneseomethodist.org
X-WR-CALDESC:Events for Geneseo United Methodist Church
REFRESH-INTERVAL;VALUE=DURATION:PT1H
X-Robots-Tag:noindex
X-PUBLISHED-TTL:PT1H
BEGIN:VTIMEZONE
TZID:America/New_York
BEGIN:DAYLIGHT
TZOFFSETFROM:-0500
TZOFFSETTO:-0400
TZNAME:EDT
DTSTART:20250309T070000
END:DAYLIGHT
BEGIN:STANDARD
TZOFFSETFROM:-0400
TZOFFSETTO:-0500
TZNAME:EST
DTSTART:20251102T060000
END:STANDARD
BEGIN:DAYLIGHT
TZOFFSETFROM:-0500
TZOFFSETTO:-0400
TZNAME:EDT
DTSTART:20260308T070000
END:DAYLIGHT
BEGIN:STANDARD
TZOFFSETFROM:-0400
TZOFFSETTO:-0500
TZNAME:EST
DTSTART:20261101T060000
END:STANDARD
BEGIN:DAYLIGHT
TZOFFSETFROM:-0500
TZOFFSETTO:-0400
TZNAME:EDT
DTSTART:20270314T070000
END:DAYLIGHT
BEGIN:STANDARD
TZOFFSETFROM:-0400
TZOFFSETTO:-0500
TZNAME:EST
DTSTART:20271107T060000
END:STANDARD
END:VTIMEZONE
BEGIN:VEVENT
DTSTART;TZID=America/New_York:20260520T080000
DTEND;TZID=America/New_York:20260520T090000
DTSTAMP:20260425T082813
CREATED:20260305T205551Z
LAST-MODIFIED:20260305T205551Z
UID:15532-1779264000-1779267600@geneseomethodist.org
SUMMARY:Prayer Breakfast
DESCRIPTION:
URL:https://geneseomethodist.org/event/prayer-breakfast-116/
END:VEVENT
BEGIN:VEVENT
DTSTART;TZID=America/New_York:20260520T083000
DTEND;TZID=America/New_York:20260520T150000
DTSTAMP:20260425T082813
CREATED:20260305T205606Z
LAST-MODIFIED:20260305T205606Z
UID:15533-1779265800-1779289200@geneseomethodist.org
SUMMARY:Ins. Navigator
DESCRIPTION:
URL:https://geneseomethodist.org/event/ins-navigator-9/
LOCATION:02 – Room 2
END:VEVENT
BEGIN:VEVENT
DTSTART;TZID=America/New_York:20260520T090000
DTEND;TZID=America/New_York:20260520T120000
DTSTAMP:20260425T082813
CREATED:20260305T205606Z
LAST-MODIFIED:20260305T205606Z
UID:15534-1779267600-1779278400@geneseomethodist.org
SUMMARY:POC Office Hours
DESCRIPTION:
URL:https://geneseomethodist.org/event/poc-office-hours-102/
LOCATION:03 – Room 3
END:VEVENT
BEGIN:VEVENT
DTSTART;TZID=America/New_York:20260520T093000
DTEND;TZID=America/New_York:20260520T143000
DTSTAMP:20260425T082813
CREATED:20260305T205607Z
LAST-MODIFIED:20260305T205607Z
UID:15535-1779269400-1779287400@geneseomethodist.org
SUMMARY:Bazaar Group
DESCRIPTION:
URL:https://geneseomethodist.org/event/bazaar-group-98/
LOCATION:10 – Fellowship Hall
END:VEVENT
BEGIN:VEVENT
DTSTART;TZID=America/New_York:20260520T181500
DTEND;TZID=America/New_York:20260520T190000
DTSTAMP:20260425T082813
CREATED:20260305T205607Z
LAST-MODIFIED:20260305T205607Z
UID:15536-1779300900-1779303600@geneseomethodist.org
SUMMARY:Praise Band
DESCRIPTION:
URL:https://geneseomethodist.org/event/praise-band-72/
LOCATION:11 – Sanctuary
END:VEVENT
BEGIN:VEVENT
DTSTART;TZID=America/New_York:20260520T190000
DTEND;TZID=America/New_York:20260520T200000
DTSTAMP:20260425T082813
CREATED:20260305T205607Z
LAST-MODIFIED:20260305T205607Z
UID:15537-1779303600-1779307200@geneseomethodist.org
SUMMARY:Senior Choir
DESCRIPTION:
URL:https://geneseomethodist.org/event/senior-choir-32/
LOCATION:10 – Fellowship Hall
END:VEVENT
BEGIN:VEVENT
DTSTART;TZID=America/New_York:20260520T200000
DTEND;TZID=America/New_York:20260520T210000
DTSTAMP:20260425T082813
CREATED:20260305T205806Z
LAST-MODIFIED:20260305T205806Z
UID:15538-1779307200-1779310800@geneseomethodist.org
SUMMARY:Bell Choir
DESCRIPTION:
URL:https://geneseomethodist.org/event/bell-choir-71/
LOCATION:10 – Fellowship Hall
END:VEVENT
END:VCALENDAR