BEGIN:VCALENDAR
VERSION:2.0
PRODID:-//Geneseo United Methodist Church - ECPv6.15.20//NONSGML v1.0//EN
CALSCALE:GREGORIAN
METHOD:PUBLISH
X-WR-CALNAME:Geneseo United Methodist Church
X-ORIGINAL-URL:https://geneseomethodist.org
X-WR-CALDESC:Events for Geneseo United Methodist Church
REFRESH-INTERVAL;VALUE=DURATION:PT1H
X-Robots-Tag:noindex
X-PUBLISHED-TTL:PT1H
BEGIN:VTIMEZONE
TZID:America/New_York
BEGIN:DAYLIGHT
TZOFFSETFROM:-0500
TZOFFSETTO:-0400
TZNAME:EDT
DTSTART:20250309T070000
END:DAYLIGHT
BEGIN:STANDARD
TZOFFSETFROM:-0400
TZOFFSETTO:-0500
TZNAME:EST
DTSTART:20251102T060000
END:STANDARD
BEGIN:DAYLIGHT
TZOFFSETFROM:-0500
TZOFFSETTO:-0400
TZNAME:EDT
DTSTART:20260308T070000
END:DAYLIGHT
BEGIN:STANDARD
TZOFFSETFROM:-0400
TZOFFSETTO:-0500
TZNAME:EST
DTSTART:20261101T060000
END:STANDARD
BEGIN:DAYLIGHT
TZOFFSETFROM:-0500
TZOFFSETTO:-0400
TZNAME:EDT
DTSTART:20270314T070000
END:DAYLIGHT
BEGIN:STANDARD
TZOFFSETFROM:-0400
TZOFFSETTO:-0500
TZNAME:EST
DTSTART:20271107T060000
END:STANDARD
END:VTIMEZONE
BEGIN:VEVENT
DTSTART;TZID=America/New_York:20260126T180000
DTEND;TZID=America/New_York:20260126T200000
DTSTAMP:20260421T140047
CREATED:20251120T173530Z
LAST-MODIFIED:20251120T173530Z
UID:14572-1769450400-1769457600@geneseomethodist.org
SUMMARY:Boy Scouts (Marr)
DESCRIPTION:
URL:https://geneseomethodist.org/event/boy-scouts-marr-116/
LOCATION:10 – Fellowship Hall
END:VEVENT
BEGIN:VEVENT
DTSTART;TZID=America/New_York:20260126T123000
DTEND;TZID=America/New_York:20260126T143000
DTSTAMP:20260421T140047
CREATED:20260113T170730Z
LAST-MODIFIED:20260113T170730Z
UID:14936-1769430600-1769437800@geneseomethodist.org
SUMMARY:Lunch Good Grief
DESCRIPTION:
URL:https://geneseomethodist.org/event/lunch-good-grief-105/
END:VEVENT
BEGIN:VEVENT
DTSTART;TZID=America/New_York:20260126T090000
DTEND;TZID=America/New_York:20260126T120000
DTSTAMP:20260421T140047
CREATED:20251120T173331Z
LAST-MODIFIED:20251120T173331Z
UID:14570-1769418000-1769428800@geneseomethodist.org
SUMMARY:POC Appts
DESCRIPTION:
URL:https://geneseomethodist.org/event/poc-appts-179/
LOCATION:03 – Room 3
END:VEVENT
BEGIN:VEVENT
DTSTART;TZID=America/New_York:20260125T103500
DTEND;TZID=America/New_York:20260125T113000
DTSTAMP:20260421T140047
CREATED:20251120T173331Z
LAST-MODIFIED:20251120T173331Z
UID:14569-1769337300-1769340600@geneseomethodist.org
SUMMARY:Adult Sunday School
DESCRIPTION:
URL:https://geneseomethodist.org/event/adult-sunday-school-45/
END:VEVENT
BEGIN:VEVENT
DTSTART;TZID=America/New_York:20260123T090000
DTEND;TZID=America/New_York:20260123T100000
DTSTAMP:20260421T140047
CREATED:20251120T173330Z
LAST-MODIFIED:20251120T173330Z
UID:14568-1769158800-1769162400@geneseomethodist.org
SUMMARY:Young at Heart Exercise
DESCRIPTION:
URL:https://geneseomethodist.org/event/young-at-heart-exercise-94/
LOCATION:10 – Fellowship Hall
END:VEVENT
BEGIN:VEVENT
DTSTART;TZID=America/New_York:20260122T090000
DTEND;TZID=America/New_York:20260122T120000
DTSTAMP:20260421T140047
CREATED:20251120T173330Z
LAST-MODIFIED:20251120T173330Z
UID:14567-1769072400-1769083200@geneseomethodist.org
SUMMARY:POC Office Hours
DESCRIPTION:
URL:https://geneseomethodist.org/event/poc-office-hours-73/
LOCATION:03 – Room 3
END:VEVENT
BEGIN:VEVENT
DTSTART;TZID=America/New_York:20260121T200000
DTEND;TZID=America/New_York:20260121T210000
DTSTAMP:20260421T140047
CREATED:20251120T173330Z
LAST-MODIFIED:20251120T173330Z
UID:14566-1769025600-1769029200@geneseomethodist.org
SUMMARY:Bell Choir
DESCRIPTION:
URL:https://geneseomethodist.org/event/bell-choir-29/
LOCATION:10 – Fellowship Hall
END:VEVENT
BEGIN:VEVENT
DTSTART;TZID=America/New_York:20260121T190000
DTEND;TZID=America/New_York:20260121T200000
DTSTAMP:20260421T140047
CREATED:20251120T173130Z
LAST-MODIFIED:20251120T173130Z
UID:14565-1769022000-1769025600@geneseomethodist.org
SUMMARY:Senior Choir
DESCRIPTION:
URL:https://geneseomethodist.org/event/senior-choir-3/
LOCATION:10 – Fellowship Hall
END:VEVENT
BEGIN:VEVENT
DTSTART;TZID=America/New_York:20260121T181500
DTEND;TZID=America/New_York:20260121T190000
DTSTAMP:20260421T140047
CREATED:20251120T173130Z
LAST-MODIFIED:20251120T173130Z
UID:14564-1769019300-1769022000@geneseomethodist.org
SUMMARY:Praise Band
DESCRIPTION:
URL:https://geneseomethodist.org/event/praise-band-30/
LOCATION:11 – Sanctuary
END:VEVENT
BEGIN:VEVENT
DTSTART;TZID=America/New_York:20260121T090000
DTEND;TZID=America/New_York:20260121T120000
DTSTAMP:20260421T140047
CREATED:20251120T173129Z
LAST-MODIFIED:20251120T173129Z
UID:14563-1768986000-1768996800@geneseomethodist.org
SUMMARY:POC Office Hours
DESCRIPTION:
URL:https://geneseomethodist.org/event/poc-office-hours-72/
LOCATION:03 – Room 3
END:VEVENT
BEGIN:VEVENT
DTSTART;TZID=America/New_York:20260121T080000
DTEND;TZID=America/New_York:20260121T090000
DTSTAMP:20260421T140047
CREATED:20251120T173129Z
LAST-MODIFIED:20251120T173129Z
UID:14562-1768982400-1768986000@geneseomethodist.org
SUMMARY:Prayer Breakfast
DESCRIPTION:
URL:https://geneseomethodist.org/event/prayer-breakfast-99/
END:VEVENT
END:VCALENDAR