BEGIN:VCALENDAR
VERSION:2.0
PRODID:-//Geneseo United Methodist Church - ECPv6.15.20//NONSGML v1.0//EN
CALSCALE:GREGORIAN
METHOD:PUBLISH
X-WR-CALNAME:Geneseo United Methodist Church
X-ORIGINAL-URL:https://geneseomethodist.org
X-WR-CALDESC:Events for Geneseo United Methodist Church
REFRESH-INTERVAL;VALUE=DURATION:PT1H
X-Robots-Tag:noindex
X-PUBLISHED-TTL:PT1H
BEGIN:VTIMEZONE
TZID:America/New_York
BEGIN:DAYLIGHT
TZOFFSETFROM:-0500
TZOFFSETTO:-0400
TZNAME:EDT
DTSTART:20250309T070000
END:DAYLIGHT
BEGIN:STANDARD
TZOFFSETFROM:-0400
TZOFFSETTO:-0500
TZNAME:EST
DTSTART:20251102T060000
END:STANDARD
BEGIN:DAYLIGHT
TZOFFSETFROM:-0500
TZOFFSETTO:-0400
TZNAME:EDT
DTSTART:20260308T070000
END:DAYLIGHT
BEGIN:STANDARD
TZOFFSETFROM:-0400
TZOFFSETTO:-0500
TZNAME:EST
DTSTART:20261101T060000
END:STANDARD
BEGIN:DAYLIGHT
TZOFFSETFROM:-0500
TZOFFSETTO:-0400
TZNAME:EDT
DTSTART:20270314T070000
END:DAYLIGHT
BEGIN:STANDARD
TZOFFSETFROM:-0400
TZOFFSETTO:-0500
TZNAME:EST
DTSTART:20271107T060000
END:STANDARD
END:VTIMEZONE
BEGIN:VEVENT
DTSTART;TZID=America/New_York:20260729T090000
DTEND;TZID=America/New_York:20260729T120000
DTSTAMP:20260419T111002
CREATED:20260413T202423Z
LAST-MODIFIED:20260413T202423Z
UID:15898-1785315600-1785326400@geneseomethodist.org
SUMMARY:POC Office Hours
DESCRIPTION:
URL:https://geneseomethodist.org/event/poc-office-hours-120/
LOCATION:03 – Room 3
END:VEVENT
BEGIN:VEVENT
DTSTART;TZID=America/New_York:20260729T093000
DTEND;TZID=America/New_York:20260729T143000
DTSTAMP:20260419T111002
CREATED:20260413T202423Z
LAST-MODIFIED:20260413T202423Z
UID:15899-1785317400-1785335400@geneseomethodist.org
SUMMARY:Bazaar Group
DESCRIPTION:
URL:https://geneseomethodist.org/event/bazaar-group-108/
LOCATION:10 – Fellowship Hall
END:VEVENT
BEGIN:VEVENT
DTSTART;TZID=America/New_York:20260730T090000
DTEND;TZID=America/New_York:20260730T120000
DTSTAMP:20260419T111002
CREATED:20260413T202623Z
LAST-MODIFIED:20260413T202623Z
UID:15900-1785402000-1785412800@geneseomethodist.org
SUMMARY:POC Office Hours
DESCRIPTION:
URL:https://geneseomethodist.org/event/poc-office-hours-121/
LOCATION:03 – Room 3
END:VEVENT
BEGIN:VEVENT
DTSTART;TZID=America/New_York:20260731T090000
DTEND;TZID=America/New_York:20260731T100000
DTSTAMP:20260419T111002
CREATED:20260413T202623Z
LAST-MODIFIED:20260413T202623Z
UID:15901-1785488400-1785492000@geneseomethodist.org
SUMMARY:Young at Heart Exercise
DESCRIPTION:
URL:https://geneseomethodist.org/event/young-at-heart-exercise-120/
LOCATION:10 – Fellowship Hall
END:VEVENT
END:VCALENDAR