BEGIN:VCALENDAR
VERSION:2.0
PRODID:-//Geneseo United Methodist Church - ECPv6.15.20//NONSGML v1.0//EN
CALSCALE:GREGORIAN
METHOD:PUBLISH
X-ORIGINAL-URL:https://geneseomethodist.org
X-WR-CALDESC:Events for Geneseo United Methodist Church
REFRESH-INTERVAL;VALUE=DURATION:PT1H
X-Robots-Tag:noindex
X-PUBLISHED-TTL:PT1H
BEGIN:VTIMEZONE
TZID:America/New_York
BEGIN:DAYLIGHT
TZOFFSETFROM:-0500
TZOFFSETTO:-0400
TZNAME:EDT
DTSTART:20250309T070000
END:DAYLIGHT
BEGIN:STANDARD
TZOFFSETFROM:-0400
TZOFFSETTO:-0500
TZNAME:EST
DTSTART:20251102T060000
END:STANDARD
BEGIN:DAYLIGHT
TZOFFSETFROM:-0500
TZOFFSETTO:-0400
TZNAME:EDT
DTSTART:20260308T070000
END:DAYLIGHT
BEGIN:STANDARD
TZOFFSETFROM:-0400
TZOFFSETTO:-0500
TZNAME:EST
DTSTART:20261101T060000
END:STANDARD
BEGIN:DAYLIGHT
TZOFFSETFROM:-0500
TZOFFSETTO:-0400
TZNAME:EDT
DTSTART:20270314T070000
END:DAYLIGHT
BEGIN:STANDARD
TZOFFSETFROM:-0400
TZOFFSETTO:-0500
TZNAME:EST
DTSTART:20271107T060000
END:STANDARD
END:VTIMEZONE
BEGIN:VEVENT
DTSTART;TZID=America/New_York:20260602T140000
DTEND;TZID=America/New_York:20260602T160000
DTSTAMP:20260421T214433
CREATED:20260305T210816Z
LAST-MODIFIED:20260305T210816Z
UID:15568-1780408800-1780416000@geneseomethodist.org
SUMMARY:Disciple II
DESCRIPTION:
URL:https://geneseomethodist.org/event/disciple-ii-14/
LOCATION:01 – Youth Room (Rm 1)
END:VEVENT
BEGIN:VEVENT
DTSTART;TZID=America/New_York:20260603T080000
DTEND;TZID=America/New_York:20260603T090000
DTSTAMP:20260421T214433
CREATED:20260305T210816Z
LAST-MODIFIED:20260305T210816Z
UID:15569-1780473600-1780477200@geneseomethodist.org
SUMMARY:Prayer Breakfast
DESCRIPTION:
URL:https://geneseomethodist.org/event/prayer-breakfast-118/
END:VEVENT
BEGIN:VEVENT
DTSTART;TZID=America/New_York:20260603T083000
DTEND;TZID=America/New_York:20260603T150000
DTSTAMP:20260421T214433
CREATED:20260305T210816Z
LAST-MODIFIED:20260305T210816Z
UID:15570-1780475400-1780498800@geneseomethodist.org
SUMMARY:Ins. Navigator
DESCRIPTION:
URL:https://geneseomethodist.org/event/ins-navigator-11/
LOCATION:02 – Room 2
END:VEVENT
BEGIN:VEVENT
DTSTART;TZID=America/New_York:20260603T090000
DTEND;TZID=America/New_York:20260603T120000
DTSTAMP:20260421T214433
CREATED:20260305T210817Z
LAST-MODIFIED:20260305T210817Z
UID:15571-1780477200-1780488000@geneseomethodist.org
SUMMARY:POC Office Hours
DESCRIPTION:
URL:https://geneseomethodist.org/event/poc-office-hours-106/
LOCATION:03 – Room 3
END:VEVENT
BEGIN:VEVENT
DTSTART;TZID=America/New_York:20260603T093000
DTEND;TZID=America/New_York:20260603T143000
DTSTAMP:20260421T214433
CREATED:20260305T210817Z
LAST-MODIFIED:20260305T210817Z
UID:15572-1780479000-1780497000@geneseomethodist.org
SUMMARY:Bazaar Group
DESCRIPTION:
URL:https://geneseomethodist.org/event/bazaar-group-100/
LOCATION:10 – Fellowship Hall
END:VEVENT
BEGIN:VEVENT
DTSTART;TZID=America/New_York:20260603T181500
DTEND;TZID=America/New_York:20260603T190000
DTSTAMP:20260421T214433
CREATED:20260305T211017Z
LAST-MODIFIED:20260305T211017Z
UID:15573-1780510500-1780513200@geneseomethodist.org
SUMMARY:Praise Band
DESCRIPTION:
URL:https://geneseomethodist.org/event/praise-band-74/
LOCATION:11 – Sanctuary
END:VEVENT
BEGIN:VEVENT
DTSTART;TZID=America/New_York:20260603T190000
DTEND;TZID=America/New_York:20260603T200000
DTSTAMP:20260421T214433
CREATED:20260305T211017Z
LAST-MODIFIED:20260305T211017Z
UID:15574-1780513200-1780516800@geneseomethodist.org
SUMMARY:Senior Choir
DESCRIPTION:
URL:https://geneseomethodist.org/event/senior-choir-34/
LOCATION:10 – Fellowship Hall
END:VEVENT
BEGIN:VEVENT
DTSTART;TZID=America/New_York:20260603T200000
DTEND;TZID=America/New_York:20260603T210000
DTSTAMP:20260421T214433
CREATED:20260305T211018Z
LAST-MODIFIED:20260305T211018Z
UID:15575-1780516800-1780520400@geneseomethodist.org
SUMMARY:Bell Choir
DESCRIPTION:
URL:https://geneseomethodist.org/event/bell-choir-73/
LOCATION:10 – Fellowship Hall
END:VEVENT
BEGIN:VEVENT
DTSTART;TZID=America/New_York:20260604T090000
DTEND;TZID=America/New_York:20260604T120000
DTSTAMP:20260421T214433
CREATED:20260305T211018Z
LAST-MODIFIED:20260305T211018Z
UID:15576-1780563600-1780574400@geneseomethodist.org
SUMMARY:POC Appts
DESCRIPTION:
URL:https://geneseomethodist.org/event/poc-appts-220/
LOCATION:03 – Room 3
END:VEVENT
BEGIN:VEVENT
DTSTART;TZID=America/New_York:20260604T133000
DTEND;TZID=America/New_York:20260604T143000
DTSTAMP:20260421T214433
CREATED:20260305T211018Z
LAST-MODIFIED:20260305T211018Z
UID:15577-1780579800-1780583400@geneseomethodist.org
SUMMARY:Morgan Estates Worship
DESCRIPTION:
URL:https://geneseomethodist.org/event/morgan-estates-worship-62/
LOCATION:Morgan Estates\, 4588 Morgan View Rd\,\, Geneseo\, New York\, 14454
END:VEVENT
BEGIN:VEVENT
DTSTART;TZID=America/New_York:20260605T090000
DTEND;TZID=America/New_York:20260605T100000
DTSTAMP:20260421T214433
CREATED:20260305T211218Z
LAST-MODIFIED:20260305T211218Z
UID:15578-1780650000-1780653600@geneseomethodist.org
SUMMARY:Young at Heart Exercise
DESCRIPTION:
URL:https://geneseomethodist.org/event/young-at-heart-exercise-112/
LOCATION:10 – Fellowship Hall
END:VEVENT
BEGIN:VEVENT
DTSTART;TZID=America/New_York:20260605T130000
DTEND;TZID=America/New_York:20260605T143000
DTSTAMP:20260421T214433
CREATED:20260305T211218Z
LAST-MODIFIED:20260305T211218Z
UID:15579-1780664400-1780669800@geneseomethodist.org
SUMMARY:Panic & Anxiety Support Group
DESCRIPTION:
URL:https://geneseomethodist.org/event/panic-anxiety-support-group-28/
LOCATION:03 – Room 3
END:VEVENT
BEGIN:VEVENT
DTSTART;TZID=America/New_York:20260606T093000
DTEND;TZID=America/New_York:20260606T113000
DTSTAMP:20260421T214433
CREATED:20260305T211218Z
LAST-MODIFIED:20260305T211218Z
UID:15580-1780738200-1780745400@geneseomethodist.org
SUMMARY:UWF Reading Group
DESCRIPTION:
URL:https://geneseomethodist.org/event/uwf-reading-group-27/
END:VEVENT
BEGIN:VEVENT
DTSTART;TZID=America/New_York:20260607T133000
DTEND;TZID=America/New_York:20260607T160000
DTSTAMP:20260421T214433
CREATED:20260305T211219Z
LAST-MODIFIED:20260305T211219Z
UID:15581-1780839000-1780848000@geneseomethodist.org
SUMMARY:Young at Heart (dessert)
DESCRIPTION:
URL:https://geneseomethodist.org/event/young-at-heart-dessert-2/
LOCATION:10 – Fellowship Hall
END:VEVENT
BEGIN:VEVENT
DTSTART;TZID=America/New_York:20260608T080000
DTEND;TZID=America/New_York:20260608T110000
DTSTAMP:20260421T214433
CREATED:20260305T211219Z
LAST-MODIFIED:20260305T211219Z
UID:15582-1780905600-1780916400@geneseomethodist.org
SUMMARY:Teresa House Brd
DESCRIPTION:
URL:https://geneseomethodist.org/event/teresa-house-brd-29/
LOCATION:10 – Fellowship Hall
END:VEVENT
BEGIN:VEVENT
DTSTART;TZID=America/New_York:20260608T090000
DTEND;TZID=America/New_York:20260608T120000
DTSTAMP:20260421T214433
CREATED:20260305T211419Z
LAST-MODIFIED:20260305T211419Z
UID:15583-1780909200-1780920000@geneseomethodist.org
SUMMARY:POC Appts
DESCRIPTION:
URL:https://geneseomethodist.org/event/poc-appts-221/
LOCATION:03 – Room 3
END:VEVENT
BEGIN:VEVENT
DTSTART;TZID=America/New_York:20260608T123000
DTEND;TZID=America/New_York:20260608T143000
DTSTAMP:20260421T214433
CREATED:20260305T211419Z
LAST-MODIFIED:20260305T211419Z
UID:15584-1780921800-1780929000@geneseomethodist.org
SUMMARY:Lunch Good Grief
DESCRIPTION:
URL:https://geneseomethodist.org/event/lunch-good-grief-120/
END:VEVENT
BEGIN:VEVENT
DTSTART;TZID=America/New_York:20260608T180000
DTEND;TZID=America/New_York:20260608T200000
DTSTAMP:20260421T214433
CREATED:20260305T211419Z
LAST-MODIFIED:20260305T211419Z
UID:15585-1780941600-1780948800@geneseomethodist.org
SUMMARY:Boy Scouts (Marr)
DESCRIPTION:
URL:https://geneseomethodist.org/event/boy-scouts-marr-137/
LOCATION:10 – Fellowship Hall
END:VEVENT
BEGIN:VEVENT
DTSTART;TZID=America/New_York:20260609T090000
DTEND;TZID=America/New_York:20260609T120000
DTSTAMP:20260421T214433
CREATED:20260305T211419Z
LAST-MODIFIED:20260305T211419Z
UID:15586-1780995600-1781006400@geneseomethodist.org
SUMMARY:POC Appts
DESCRIPTION:
URL:https://geneseomethodist.org/event/poc-appts-222/
LOCATION:03 – Room 3
END:VEVENT
BEGIN:VEVENT
DTSTART;TZID=America/New_York:20260609T090000
DTEND;TZID=America/New_York:20260609T150000
DTSTAMP:20260421T214433
CREATED:20260305T211419Z
LAST-MODIFIED:20260305T211419Z
UID:15587-1780995600-1781017200@geneseomethodist.org
SUMMARY:Asbury Women's Retreat
DESCRIPTION:
URL:https://geneseomethodist.org/event/asbury-womens-retreat/
END:VEVENT
BEGIN:VEVENT
DTSTART;TZID=America/New_York:20260609T100000
DTEND;TZID=America/New_York:20260609T133000
DTSTAMP:20260421T214433
CREATED:20260413T194400Z
LAST-MODIFIED:20260413T194400Z
UID:15829-1780999200-1781011800@geneseomethodist.org
SUMMARY:Stitchery Group
DESCRIPTION:
URL:https://geneseomethodist.org/event/stitchery-group-128/
END:VEVENT
BEGIN:VEVENT
DTSTART;TZID=America/New_York:20260609T133000
DTEND;TZID=America/New_York:20260609T153000
DTSTAMP:20260421T214433
CREATED:20260305T211508Z
LAST-MODIFIED:20260305T211508Z
UID:15588-1781011800-1781019000@geneseomethodist.org
SUMMARY:Hooks & Needles Ministries
DESCRIPTION:
URL:https://geneseomethodist.org/event/hooks-needles-ministries-29/
END:VEVENT
BEGIN:VEVENT
DTSTART;TZID=America/New_York:20260609T140000
DTEND;TZID=America/New_York:20260609T160000
DTSTAMP:20260421T214433
CREATED:20260305T211508Z
LAST-MODIFIED:20260305T211508Z
UID:15589-1781013600-1781020800@geneseomethodist.org
SUMMARY:Disciple II
DESCRIPTION:
URL:https://geneseomethodist.org/event/disciple-ii-15/
LOCATION:01 – Youth Room (Rm 1)
END:VEVENT
BEGIN:VEVENT
DTSTART;TZID=America/New_York:20260609T190000
DTEND;TZID=America/New_York:20260609T210000
DTSTAMP:20260421T214433
CREATED:20260305T211508Z
LAST-MODIFIED:20260305T211508Z
UID:15590-1781031600-1781038800@geneseomethodist.org
SUMMARY:Brd of Trustees
DESCRIPTION:
URL:https://geneseomethodist.org/event/brd-of-trustees-29/
LOCATION:03 – Room 3
END:VEVENT
BEGIN:VEVENT
DTSTART;TZID=America/New_York:20260610T080000
DTEND;TZID=America/New_York:20260610T090000
DTSTAMP:20260421T214433
CREATED:20260305T211508Z
LAST-MODIFIED:20260305T211508Z
UID:15591-1781078400-1781082000@geneseomethodist.org
SUMMARY:Prayer Breakfast
DESCRIPTION:
URL:https://geneseomethodist.org/event/prayer-breakfast-119/
END:VEVENT
BEGIN:VEVENT
DTSTART;TZID=America/New_York:20260610T083000
DTEND;TZID=America/New_York:20260610T150000
DTSTAMP:20260421T214433
CREATED:20260305T211509Z
LAST-MODIFIED:20260305T211509Z
UID:15592-1781080200-1781103600@geneseomethodist.org
SUMMARY:Ins. Navigator
DESCRIPTION:
URL:https://geneseomethodist.org/event/ins-navigator-12/
LOCATION:02 – Room 2
END:VEVENT
BEGIN:VEVENT
DTSTART;TZID=America/New_York:20260610T090000
DTEND;TZID=America/New_York:20260610T120000
DTSTAMP:20260421T214433
CREATED:20260305T211523Z
LAST-MODIFIED:20260305T211523Z
UID:15593-1781082000-1781092800@geneseomethodist.org
SUMMARY:POC Office Hours
DESCRIPTION:
URL:https://geneseomethodist.org/event/poc-office-hours-107/
LOCATION:03 – Room 3
END:VEVENT
BEGIN:VEVENT
DTSTART;TZID=America/New_York:20260610T093000
DTEND;TZID=America/New_York:20260610T143000
DTSTAMP:20260421T214433
CREATED:20260305T211523Z
LAST-MODIFIED:20260305T211523Z
UID:15594-1781083800-1781101800@geneseomethodist.org
SUMMARY:Bazaar Group
DESCRIPTION:
URL:https://geneseomethodist.org/event/bazaar-group-101/
LOCATION:10 – Fellowship Hall
END:VEVENT
BEGIN:VEVENT
DTSTART;TZID=America/New_York:20260610T100000
DTEND;TZID=America/New_York:20260610T120000
DTSTAMP:20260421T214433
CREATED:20260305T211523Z
LAST-MODIFIED:20260305T211523Z
UID:15595-1781085600-1781092800@geneseomethodist.org
SUMMARY:Y@H Ex Brd
DESCRIPTION:
URL:https://geneseomethodist.org/event/yh-ex-brd-6/
END:VEVENT
BEGIN:VEVENT
DTSTART;TZID=America/New_York:20260610T170000
DTEND;TZID=America/New_York:20260610T190000
DTSTAMP:20260421T214433
CREATED:20260305T211523Z
LAST-MODIFIED:20260305T211523Z
UID:15596-1781110800-1781118000@geneseomethodist.org
SUMMARY:Finance Comm.
DESCRIPTION:
URL:https://geneseomethodist.org/event/finance-comm-19/
LOCATION:03 – Room 3
END:VEVENT
END:VCALENDAR