BEGIN:VCALENDAR
VERSION:2.0
PRODID:-//Geneseo United Methodist Church - ECPv6.15.20//NONSGML v1.0//EN
CALSCALE:GREGORIAN
METHOD:PUBLISH
X-ORIGINAL-URL:https://geneseomethodist.org
X-WR-CALDESC:Events for Geneseo United Methodist Church
REFRESH-INTERVAL;VALUE=DURATION:PT1H
X-Robots-Tag:noindex
X-PUBLISHED-TTL:PT1H
BEGIN:VTIMEZONE
TZID:America/New_York
BEGIN:DAYLIGHT
TZOFFSETFROM:-0500
TZOFFSETTO:-0400
TZNAME:EDT
DTSTART:20250309T070000
END:DAYLIGHT
BEGIN:STANDARD
TZOFFSETFROM:-0400
TZOFFSETTO:-0500
TZNAME:EST
DTSTART:20251102T060000
END:STANDARD
BEGIN:DAYLIGHT
TZOFFSETFROM:-0500
TZOFFSETTO:-0400
TZNAME:EDT
DTSTART:20260308T070000
END:DAYLIGHT
BEGIN:STANDARD
TZOFFSETFROM:-0400
TZOFFSETTO:-0500
TZNAME:EST
DTSTART:20261101T060000
END:STANDARD
BEGIN:DAYLIGHT
TZOFFSETFROM:-0500
TZOFFSETTO:-0400
TZNAME:EDT
DTSTART:20270314T070000
END:DAYLIGHT
BEGIN:STANDARD
TZOFFSETFROM:-0400
TZOFFSETTO:-0500
TZNAME:EST
DTSTART:20271107T060000
END:STANDARD
END:VTIMEZONE
BEGIN:VEVENT
DTSTART;TZID=America/New_York:20260429T200000
DTEND;TZID=America/New_York:20260429T210000
DTSTAMP:20260421T073504
CREATED:20260113T210406Z
LAST-MODIFIED:20260113T210406Z
UID:15142-1777492800-1777496400@geneseomethodist.org
SUMMARY:Bell Choir
DESCRIPTION:
URL:https://geneseomethodist.org/event/bell-choir-68/
LOCATION:10 – Fellowship Hall
END:VEVENT
BEGIN:VEVENT
DTSTART;TZID=America/New_York:20260430T090000
DTEND;TZID=America/New_York:20260430T120000
DTSTAMP:20260421T073504
CREATED:20260113T210406Z
LAST-MODIFIED:20260113T210406Z
UID:15143-1777539600-1777550400@geneseomethodist.org
SUMMARY:POC Office Hours
DESCRIPTION:
URL:https://geneseomethodist.org/event/poc-office-hours-98/
LOCATION:03 – Room 3
END:VEVENT
BEGIN:VEVENT
DTSTART;TZID=America/New_York:20260430T133000
DTEND;TZID=America/New_York:20260430T143000
DTSTAMP:20260421T073504
CREATED:20260113T210606Z
LAST-MODIFIED:20260113T210606Z
UID:15144-1777555800-1777559400@geneseomethodist.org
SUMMARY:Newsletter Assembly
DESCRIPTION:
URL:https://geneseomethodist.org/event/newsletter-assembly-22/
LOCATION:03 – Room 3
END:VEVENT
END:VCALENDAR